BEGIN:VCALENDAR
VERSION:2.0
PRODID:-//Mint Hill Baptist Church - ECPv6.15.11//NONSGML v1.0//EN
CALSCALE:GREGORIAN
METHOD:PUBLISH
X-ORIGINAL-URL:https://minthillbc.org
X-WR-CALDESC:Events for Mint Hill Baptist Church
REFRESH-INTERVAL;VALUE=DURATION:PT1H
X-Robots-Tag:noindex
X-PUBLISHED-TTL:PT1H
BEGIN:VTIMEZONE
TZID:America/New_York
BEGIN:DAYLIGHT
TZOFFSETFROM:-0500
TZOFFSETTO:-0400
TZNAME:EDT
DTSTART:20250309T070000
END:DAYLIGHT
BEGIN:STANDARD
TZOFFSETFROM:-0400
TZOFFSETTO:-0500
TZNAME:EST
DTSTART:20251102T060000
END:STANDARD
BEGIN:DAYLIGHT
TZOFFSETFROM:-0500
TZOFFSETTO:-0400
TZNAME:EDT
DTSTART:20260308T070000
END:DAYLIGHT
BEGIN:STANDARD
TZOFFSETFROM:-0400
TZOFFSETTO:-0500
TZNAME:EST
DTSTART:20261101T060000
END:STANDARD
BEGIN:DAYLIGHT
TZOFFSETFROM:-0500
TZOFFSETTO:-0400
TZNAME:EDT
DTSTART:20270314T070000
END:DAYLIGHT
BEGIN:STANDARD
TZOFFSETFROM:-0400
TZOFFSETTO:-0500
TZNAME:EST
DTSTART:20271107T060000
END:STANDARD
END:VTIMEZONE
BEGIN:VEVENT
DTSTART;TZID=America/New_York:20260425T100000
DTEND;TZID=America/New_York:20260425T110000
DTSTAMP:20260421T131810
CREATED:20250109T170725Z
LAST-MODIFIED:20260421T125721Z
UID:2347-1777111200-1777114800@minthillbc.org
SUMMARY:Women's Ministry Monthly Ladies Fellowship
DESCRIPTION:  \nLadies\, please mark your calendars and plan to join us for our monthly Ladies Fellowship on Saturday\, April 25 at 10:00 AM in the Fellowship Hall. We are delighted to have Heather Stoneham leading this month’s devotion. Light refreshments will be provided\, so come and enjoy a meaningful and uplifting time of fellowship together. \nWe will meet the 4th Saturday of every month unless posted differently on our Women’s Ministry webpage.
URL:https://minthillbc.org/event/womens-ministry-fellowship/
LOCATION:Mint Hill Baptist Church\, 7835 Matthews-Mint Hill Rd\, Mint Hill\, NC\, 28227\, United States
CATEGORIES:Women's Ministry
ATTACH;FMTTYPE=image/png:https://minthillbc.org/wp-content/uploads/2022/07/Womens-Ministry-Events-Website.png
END:VEVENT
END:VCALENDAR